BEGIN:VCALENDAR
VERSION:2.0
PRODID:-//CHAMBER DASHBOARD//EVENTS CALENDAR2.0//EN
CALSCALE:GREGORIAN
BEGIN:VEVENT
DTEND:20251001T190000Z
UID:69e630b3243bf
DTSTAMP:20260420T135707Z
CATEGORIES:Community Events
LOCATION:Whittier Union High School District 
DESCRIPTION:SAVE THE DATE for Whittier Union's State of the District event\, an evening of connection\, community\, and insight\, featuring a catered reception and an engaging presentation highlighting the District's mission\, vision\, and progress.
URL;VALUE=URI:https://norwalkchamber.com/event/2025-26-inaugural-state-of-the-district/
SUMMARY:2025-26 Inaugural State of the District
DTSTART:20251001T173000Z
END:VEVENT
END:VCALENDAR
