BEGIN:VCALENDAR
VERSION:2.0
PRODID:-//CHAMBER DASHBOARD//EVENTS CALENDAR2.0//EN
CALSCALE:GREGORIAN
BEGIN:VEVENT
DTEND:20251023T200000Z
UID:69e5ed8248ac1
DTSTAMP:20260420T091026Z
CATEGORIES:Community Events
LOCATION:John Glenn High School 
DESCRIPTION:Connect With Colleges\, Find Your Career\,Get Help Along The Way\, and Fun For All!
URL;VALUE=URI:https://norwalkchamber.com/event/2025-nlm-college-career-expo/
SUMMARY:2025 NLMUSD COLLEGE and CAREER EXPO
DTSTART:20251023T180000Z
END:VEVENT
END:VCALENDAR
