BEGIN:VCALENDAR
VERSION:2.0
PRODID:-//CHAMBER DASHBOARD//EVENTS CALENDAR2.0//EN
CALSCALE:GREGORIAN
BEGIN:VEVENT
DTEND:20241012T110000Z
UID:69e604bd14915
DTSTAMP:20260420T104933Z
CATEGORIES:Community Events
LOCATION:Norwalk Blvd and Mapledale 
DESCRIPTION:Come and participate in the "Annual Arturo Sanchez Sr. Halloween Parade!"
URL;VALUE=URI:https://norwalkchamber.com/event/39th-annual-arturo-sanchez-sr-halloween-parade/
SUMMARY:39th Annual Arturo Sanchez Sr.Halloween Parade
DTSTART:20241012T110000Z
END:VEVENT
END:VCALENDAR
