BEGIN:VCALENDAR
VERSION:2.0
PRODID:-//CHAMBER DASHBOARD//EVENTS CALENDAR2.0//EN
CALSCALE:GREGORIAN
BEGIN:VEVENT
DTEND:20241005T120000Z
UID:69e5ecd671e28
DTSTAMP:20260420T090734Z
CATEGORIES:Community Events
LOCATION:La Jara Brewery Co. 
DESCRIPTION:Come and support La Jara Brewing Co. at their "3rd Annual OKTOBERFEST"!
URL;VALUE=URI:https://norwalkchamber.com/event/3rd-annual-la-jara-brewing-co-oktoberfest/
SUMMARY:3RD ANNUAL LA JARA BREWING CO. OKTOBERFEST
DTSTART:20241005T120000Z
END:VEVENT
END:VCALENDAR
