BEGIN:VCALENDAR
VERSION:2.0
PRODID:-//CHAMBER DASHBOARD//EVENTS CALENDAR2.0//EN
CALSCALE:GREGORIAN
BEGIN:VEVENT
DTEND:20251011T110000Z
UID:69e6064d35b3d
DTSTAMP:20260420T105613Z
CATEGORIES:Community Events
LOCATION:Down Norwalk Blvd 
DESCRIPTION:Community Entry Contest: Floats\, Marchers\, Novelty\, &amp\; Car Clubs!Costumes Contest: Come dressed in your BEST COSTUME&amp\; be part of the PARADE!
URL;VALUE=URI:https://norwalkchamber.com/event/40th-annual-arturo-sanchez-sr-halloween-parade/
SUMMARY:40th Annual Arturo Sanchez Sr. HALLOWEEN PARADE
DTSTART:20251011T110000Z
END:VEVENT
END:VCALENDAR
