BEGIN:VCALENDAR
VERSION:2.0
PRODID:-//CHAMBER DASHBOARD//EVENTS CALENDAR2.0//EN
CALSCALE:GREGORIAN
BEGIN:VEVENT
DTEND:20230907T190000Z
UID:69e5ec3d623e9
DTSTAMP:20260420T090501Z
CATEGORIES:Chamber Events
LOCATION:Outback Restaurant 12850 Norwalk Blvd, Norwalk, CA, 90650, USA
DESCRIPTION:Norwalk Chamber Mixers are a great way to reconnect and build new relationships. Enjoy networking with other business owners and professionals!
URL;VALUE=URI:https://norwalkchamber.com/event/after-hours-mixer-hosted-by-outback-restaurant/
SUMMARY:AFTER HOURS MIXER hosted by OUTBACK RESTAURANT
DTSTART:20230907T170000Z
END:VEVENT
END:VCALENDAR
