BEGIN:VCALENDAR
VERSION:2.0
PRODID:-//CHAMBER DASHBOARD//EVENTS CALENDAR2.0//EN
CALSCALE:GREGORIAN
BEGIN:VEVENT
DTEND:20260115T183000Z
UID:69e5eba7af94f
DTSTAMP:20260420T090231Z
CATEGORIES:Chamber Events
LOCATION:La Jara Brewery Co. 
DESCRIPTION:Joiin the Norwalk Chamber and our partner Chambers for a networking event at La Jara Brewery on Thursday\, January 15th.  Come make new connections and expand your network.  La Jara is located at 13423 Excelsior Dr in Norwalk.  No cost to attend\, happy hour pricing.
URL;VALUE=URI:https://norwalkchamber.com/event/after-hours-multi-chamber-networking-mixer/
SUMMARY:After Hours Multi Chamber Networking Mixer
DTSTART:20260115T163000Z
END:VEVENT
END:VCALENDAR
