BEGIN:VCALENDAR
VERSION:2.0
PRODID:-//CHAMBER DASHBOARD//EVENTS CALENDAR2.0//EN
CALSCALE:GREGORIAN
BEGIN:VEVENT
DTEND:20250714T190000Z
UID:69e88b8f23df1
DTSTAMP:20260422T084919Z
CATEGORIES:Chamber Events
LOCATION:Milagro Cinemas 
DESCRIPTION:Join us for an After Hours Networking Mixer at Milagro Cinemas. Light refreshments will be served and RSVP is requested. You can RSVP at info@norwalkchamber.com. Address 13917 Pioneer Blvd\, Norwalk\, CA 90650
URL;VALUE=URI:https://norwalkchamber.com/event/after-hours-networking-mixer-at-milagro-cinemas/
SUMMARY:After Hours Networking Mixer at Milagro Cinemas
DTSTART:20250714T170000Z
END:VEVENT
END:VCALENDAR
