BEGIN:VCALENDAR
VERSION:2.0
PRODID:-//CHAMBER DASHBOARD//EVENTS CALENDAR2.0//EN
CALSCALE:GREGORIAN
BEGIN:VEVENT
DTEND:20250923T190000Z
UID:69e5ec63c43cb
DTSTAMP:20260420T090539Z
CATEGORIES:Chamber Events
LOCATION:Outback Restaurant 12850 Norwalk Blvd, Norwalk, CA, 90650, USA
DESCRIPTION:Join us for a After Hours Networking Mixer at Outback restaurant. Light refreshments will be served and RSVP is requested. You can RSVP at info@norwalkchamber.com.
URL;VALUE=URI:https://norwalkchamber.com/event/after-hours-networking-mixer-at-outback-restraunt/
SUMMARY:After Hours Networking Mixer At Outback Restaurant
DTSTART:20250923T170000Z
END:VEVENT
END:VCALENDAR
