BEGIN:VCALENDAR
VERSION:2.0
PRODID:-//CHAMBER DASHBOARD//EVENTS CALENDAR2.0//EN
CALSCALE:GREGORIAN
BEGIN:VEVENT
DTEND:20220706T190000Z
UID:69e6174c613d8
DTSTAMP:20260420T120844Z
CATEGORIES:Chamber Events
LOCATION:American Legion Post 359 
DESCRIPTION:Join the Norwalk Chamber &amp\; American Legion Post 359 for an "After Hours" networking mixer on Wednesday\, July 6th at the American Legion Hall from 5pm to 7pm.  Address is 11986 Front St. Norwalk CA.
URL;VALUE=URI:https://norwalkchamber.com/event/after-hours-networking-mixer/
SUMMARY:After Hours Networking Mixer hosted by the American Legion Post 359
DTSTART:20220706T170000Z
END:VEVENT
END:VCALENDAR
