BEGIN:VCALENDAR
VERSION:2.0
PRODID:-//CHAMBER DASHBOARD//EVENTS CALENDAR2.0//EN
CALSCALE:GREGORIAN
BEGIN:VEVENT
DTEND:20250731T120000Z
UID:69e61ed377b72
DTSTAMP:20260420T124051Z
CATEGORIES:Chamber Events
LOCATION:Industry Hills Expo Center 
DESCRIPTION:Save the date for our upcoming State of the Nation Luncheon\, featuring Congresswoman Linda Sanchez.  Hear from her on activities and issues in our nation's capital.
URL;VALUE=URI:https://norwalkchamber.com/event/annual-state-of-the-nation-luncheon-2/
SUMMARY:Annual State of the Nation Luncheon
DTSTART:20250731T120000Z
END:VEVENT
END:VCALENDAR
