BEGIN:VCALENDAR
VERSION:2.0
PRODID:-//CHAMBER DASHBOARD//EVENTS CALENDAR2.0//EN
CALSCALE:GREGORIAN
BEGIN:VEVENT
DTEND:20240809T140000Z
UID:69e518ad93b28
DTSTAMP:20260419T180221Z
CATEGORIES:Chamber Events
LOCATION:901 Via San Clemente, Montebello CA 
DESCRIPTION:Join the Norwalk Chamber and other local Chambers of Commerce at the Annual State of the Nation Luncheon.  Come hear from our Congresswoman Linda Sánchez about what is happening in Washington DC and across the country.  Have questions?  Submit them ahead of time to info@norwalkchamber.com.
URL;VALUE=URI:https://norwalkchamber.com/event/annual-state-of-the-nation-luncheon/
SUMMARY:Annual State of the Nation Luncheon
DTSTART:20240809T113000Z
END:VEVENT
END:VCALENDAR
