BEGIN:VCALENDAR
VERSION:2.0
PRODID:-//CHAMBER DASHBOARD//EVENTS CALENDAR2.0//EN
CALSCALE:GREGORIAN
BEGIN:VEVENT
DTEND:20250628T120000Z
UID:69e63353d3bef
DTSTAMP:20260420T140819Z
CATEGORIES:Community Events
LOCATION:Salt Lake Yard 
DESCRIPTION:Hiring for: Class A/B Drivers &amp\; Mechanics
URL;VALUE=URI:https://norwalkchamber.com/event/athens-services-job-fair/
SUMMARY:Athens Services Job Fair
DTSTART:20250628T090000Z
END:VEVENT
END:VCALENDAR
