BEGIN:VCALENDAR
VERSION:2.0
PRODID:-//CHAMBER DASHBOARD//EVENTS CALENDAR2.0//EN
CALSCALE:GREGORIAN
BEGIN:VEVENT
DTEND:20220316T103000Z
UID:69e5ff8a15540
DTSTAMP:20260420T102722Z
CATEGORIES:Chamber Meetings
LOCATION:ZOOM 
DESCRIPTION:Contact&nbsp\;Norwalk Chamber 562-404-0909   Meetings via ZOOM
URL;VALUE=URI:https://norwalkchamber.com/event/board-of-directors-meeting/
SUMMARY:Board of Directors Meeting
DTSTART:20220316T090000Z
END:VEVENT
END:VCALENDAR
