BEGIN:VCALENDAR
VERSION:2.0
PRODID:-//CHAMBER DASHBOARD//EVENTS CALENDAR2.0//EN
CALSCALE:GREGORIAN
BEGIN:VEVENT
DTEND:20260422T123000Z
UID:69e5eeead718b
DTSTAMP:20260420T091626Z
CATEGORIES:Chamber Events
LOCATION:Norwalk Arts &amp; Sports Complex 13200 Clarkdale Ave., Norwalk, CA, 90650
DESCRIPTION:This half day seminar brings together representatives from California's different tax agencies including FTB\, EDD\, as well as the IRS. Small business owners can learn about compliance issues and get their questions answered. Topics may include avoiding common sales and use tax problems\, employee versus independent contractor\, forms of ownership\, and better business through better records. Learn from California’s tax professionals at this all-inclusive event!    Register for workshop at  https://cdtfa.ca.gov/tax-education/seminar.aspx?flag=3247
URL;VALUE=URI:https://norwalkchamber.com/event/california-department-of-tax-and-fee-administration-sales-use-tax-workshop/
SUMMARY:California Department of Tax and Fee Administration Small Business Seminar
DTSTART:20260422T083000Z
END:VEVENT
END:VCALENDAR
