BEGIN:VCALENDAR
VERSION:2.0
PRODID:-//CHAMBER DASHBOARD//EVENTS CALENDAR2.0//EN
CALSCALE:GREGORIAN
BEGIN:VEVENT
DTEND:20241016T200000Z
UID:69e5e7a541daf
DTSTAMP:20260420T084525Z
CATEGORIES:Community Events
LOCATION:Norwalk Arts &amp; Sports Complex 13200 Clarkdale Ave., Norwalk, CA, 90650
DESCRIPTION:Norwalk Chamber presents a "School Board Candidates MEET &amp\;GREET!"Hear briefly from each Candidate* and then network with the Candidates\, business leaders and community members.Light refreshments will be served.
URL;VALUE=URI:https://norwalkchamber.com/event/candidates-meet-greet/
SUMMARY:CANDIDATES &quot\;MEET &amp\; GREET&quot\;
DTSTART:20241016T180000Z
END:VEVENT
END:VCALENDAR
