BEGIN:VCALENDAR
VERSION:2.0
PRODID:-//CHAMBER DASHBOARD//EVENTS CALENDAR2.0//EN
CALSCALE:GREGORIAN
BEGIN:VEVENT
DTEND:20251106T193000Z
UID:69e5ebbf8f986
DTSTAMP:20260420T090255Z
CATEGORIES:Community Events
LOCATION:Black Gold Golf Club 
DESCRIPTION:Food\, Networking\, &amp\; MORE!
URL;VALUE=URI:https://norwalkchamber.com/event/cba-grateful-gathering-mixer/
SUMMARY:CBA Grateful Gathering Mixer
DTSTART:20251106T173000Z
END:VEVENT
END:VCALENDAR
