BEGIN:VCALENDAR
VERSION:2.0
PRODID:-//CHAMBER DASHBOARD//EVENTS CALENDAR2.0//EN
CALSCALE:GREGORIAN
BEGIN:VEVENT
DTEND:20251002T130000Z
UID:69e61b132d7d1
DTSTAMP:20260420T122451Z
CATEGORIES:Community Events
LOCATION:Cerritos College 
DESCRIPTION:Open to students and community!!    Obtain Job and Internship Information\, Network with over 30 Employers\, &amp\; Explore Career Leads
URL;VALUE=URI:https://norwalkchamber.com/event/cerritos-college-job-fair/
SUMMARY:Cerritos College JOB FAIR
DTSTART:20251002T100000Z
END:VEVENT
END:VCALENDAR
