BEGIN:VCALENDAR
VERSION:2.0
PRODID:-//CHAMBER DASHBOARD//EVENTS CALENDAR2.0//EN
CALSCALE:GREGORIAN
BEGIN:VEVENT
DTEND:20240427T110000Z
UID:69e5ed7e7763e
DTSTAMP:20260420T091022Z
CATEGORIES:Community Events
LOCATION:Cerritos College 
DESCRIPTION:Come Experience the "Magic" of Cerritos College!Gather the family and join us for a free movie event.
URL;VALUE=URI:https://norwalkchamber.com/event/cerritos-college-movie-event/
SUMMARY:Cerritos College Movie Event
DTSTART:20240427T110000Z
END:VEVENT
END:VCALENDAR
