BEGIN:VCALENDAR
VERSION:2.0
PRODID:-//CHAMBER DASHBOARD//EVENTS CALENDAR2.0//EN
CALSCALE:GREGORIAN
BEGIN:VEVENT
DTEND:20241029T193000Z
UID:69e604f26004b
DTSTAMP:20260420T105026Z
CATEGORIES:Community Events
LOCATION:Cerritos College 
DESCRIPTION:Please join Cerritos College in recognizing her 12 years of dedication and oustanding service as a member of the Cerritos College Board of Trustees.
URL;VALUE=URI:https://norwalkchamber.com/event/cerritos-college-outgoing-trustee-reception-for-marisa-perez/
SUMMARY:Cerritos College Outgoing Trustee Reception for Marisa Perez
DTSTART:20241029T180000Z
END:VEVENT
END:VCALENDAR
