BEGIN:VCALENDAR
VERSION:2.0
PRODID:-//CHAMBER DASHBOARD//EVENTS CALENDAR2.0//EN
CALSCALE:GREGORIAN
BEGIN:VEVENT
DTEND:20250508T180000Z
UID:69e603722587a
DTSTAMP:20260420T104402Z
CATEGORIES:Community Events
LOCATION:Sheraton Cerritos Hotel 
DESCRIPTION:Community Family Guidance Center provides support for the Children\, Families\, and Individuals of Norwalk. Come to their Children's Benefit Dinner to join in the "Spirit of Community."Buy a ticket and support those in need.
URL;VALUE=URI:https://norwalkchamber.com/event/cfgc-childrens-benefit-dinner-3/
SUMMARY:CFGC Children&#039\;s Benefit Dinner
DTSTART:20250508T180000Z
END:VEVENT
END:VCALENDAR
