BEGIN:VCALENDAR
VERSION:2.0
PRODID:-//CHAMBER DASHBOARD//EVENTS CALENDAR2.0//EN
CALSCALE:GREGORIAN
BEGIN:VEVENT
DTEND:20230925T190000Z
UID:69e5eb2fbe19f
DTSTAMP:20260420T090031Z
CATEGORIES:Community Fundraisers
LOCATION:Los Coyotes Country Club 
DESCRIPTION:Community Family Guidance Center Annual Fall Classic Golf Tournament is on Monday\, September 25th\, 2023 at Los Coyotes Country Club in Buena Park.  Interested in golfing or sponsoring\, contact CFGC at 562-924-5526.
URL;VALUE=URI:https://norwalkchamber.com/event/cfgc-golf-classic/
SUMMARY:CFGC Golf Classic
DTSTART:20230925T090000Z
END:VEVENT
END:VCALENDAR
