BEGIN:VCALENDAR
VERSION:2.0
PRODID:-//CHAMBER DASHBOARD//EVENTS CALENDAR2.0//EN
CALSCALE:GREGORIAN
BEGIN:VEVENT
DTEND:20250709T210000Z
UID:69e605bce6c68
DTSTAMP:20260420T105348Z
CATEGORIES:Community Events
LOCATION:Norwalk Park 
DESCRIPTION:They take place at Norwalk Park from 6pm to 9pm. View the line up and come out to enjoy the concerts. They start Tuesday\, July 9th and continue on Wednesdays through August 6th.
URL;VALUE=URI:https://norwalkchamber.com/event/city-of-norwalk-summer-concerts/
SUMMARY:City of Norwalk Summer Concerts
DTSTART:20250709T180000Z
END:VEVENT
END:VCALENDAR
