BEGIN:VCALENDAR
VERSION:2.0
PRODID:-//CHAMBER DASHBOARD//EVENTS CALENDAR2.0//EN
CALSCALE:GREGORIAN
BEGIN:VEVENT
DTEND:20250703T213000Z
UID:69e64ae407f30
DTSTAMP:20260420T154852Z
CATEGORIES:Community Events
LOCATION:Holifield Park 
DESCRIPTION:Join the City of Norwalk for their Independence Day Festival at Holifield Park! Live music\, food trucks\, kids zone and more!
URL;VALUE=URI:https://norwalkchamber.com/event/city-of-norwalkindependence-day-festival/
SUMMARY:CITY OF NORWALKINDEPENDENCE DAY FESTIVAL
DTSTART:20250703T160000Z
END:VEVENT
END:VCALENDAR
