BEGIN:VCALENDAR
VERSION:2.0
PRODID:-//CHAMBER DASHBOARD//EVENTS CALENDAR2.0//EN
CALSCALE:GREGORIAN
BEGIN:VEVENT
DTEND:20240919T100000Z
UID:69e5eaccf14a1
DTSTAMP:20260420T085852Z
CATEGORIES:Chamber Events
LOCATION:Chick-fil-A Norwalk 
DESCRIPTION:Join the Norwalk Chamber at Chick-fil-A at the Norwalk Fitness Village for a Coffee and Conversation.Complimentary coffee and conversation! Come out and network withNorwalk business and community leaders!
URL;VALUE=URI:https://norwalkchamber.com/event/coffee-conversation-6/
SUMMARY:COFFEE &amp\; CONVERSATION
DTSTART:20240919T090000Z
END:VEVENT
END:VCALENDAR
