BEGIN:VCALENDAR
VERSION:2.0
PRODID:-//CHAMBER DASHBOARD//EVENTS CALENDAR2.0//EN
CALSCALE:GREGORIAN
BEGIN:VEVENT
DTEND:20250123T103000Z
UID:69e8a1166eae9
DTSTAMP:20260422T102110Z
CATEGORIES:Chamber Events
DESCRIPTION:Join the Norwalk Chamber at Chick-fil-A\, Norwalk on Thursday\, January 23rd at 9am.      Complimentary Coffee\, please bring business cards to share.
URL;VALUE=URI:https://norwalkchamber.com/event/coffee-conversation-8/
SUMMARY:Coffee and Conversation
DTSTART:20250123T090000Z
END:VEVENT
END:VCALENDAR
