BEGIN:VCALENDAR
VERSION:2.0
PRODID:-//CHAMBER DASHBOARD//EVENTS CALENDAR2.0//EN
CALSCALE:GREGORIAN
BEGIN:VEVENT
DTEND:20240815T100000Z
UID:69e5131877f87
DTSTAMP:20260419T173832Z
CATEGORIES:Chamber Events
LOCATION:McDonalds - 10841 Imperial Hwy., Norwalk, CA 90650 
DESCRIPTION:Norwalk Chamber will be hosting a "Coffeewith a Quadrant Officer" in order to attendand connect with our new Q-1 Public Safety Officer. "Coffee with a Quadrant Officer" will be hostedat McDonald's Restaurant on Imperial Hwy onThursday\, August 15th @ 9:00am.
URL;VALUE=URI:https://norwalkchamber.com/event/coffee-with-a-quadrant-officer/
SUMMARY:Coffee with a Quadrant Officer
DTSTART:20240815T090000Z
END:VEVENT
END:VCALENDAR
