BEGIN:VCALENDAR
VERSION:2.0
PRODID:-//CHAMBER DASHBOARD//EVENTS CALENDAR2.0//EN
CALSCALE:GREGORIAN
BEGIN:VEVENT
DTEND:20250429T110000Z
UID:69e8a2a346d0a
DTSTAMP:20260422T102747Z
CATEGORIES:Chamber Events
LOCATION:Diana's Restaurant 
DESCRIPTION:Join the Norwalk Chamber\, Norwalk Public Safety and Norwalk Sheriffs Dept for a "Coffee Meet Up" to find out about the Quadrant Officer Programand meet your new QUADRANT OFFICERS!
URL;VALUE=URI:https://norwalkchamber.com/event/coffee-with-a-quadrant-officerquadrants-3-4/
SUMMARY:COFFEE WITH A QUADRANT OFFICERQUADRANTS 3 &amp\; 4
DTSTART:20250429T100000Z
END:VEVENT
END:VCALENDAR
