BEGIN:VCALENDAR
VERSION:2.0
PRODID:-//CHAMBER DASHBOARD//EVENTS CALENDAR2.0//EN
CALSCALE:GREGORIAN
BEGIN:VEVENT
DTEND:20260410T103000Z
UID:69e61a3497378
DTSTAMP:20260420T122108Z
DESCRIPTION:Visit Mr. Rosewood Family Restaurant on Friday\, April 10th from 9am to 10:30am and hear from Senator Bob Archuleta on legislative updates. 10640 Rosecrans Ave. Norwalk CA.
URL;VALUE=URI:https://norwalkchamber.com/event/coffee-with-senator-bob-archuleta/
SUMMARY:Coffee with Senator Bob Archuleta
DTSTART:20260410T090000Z
END:VEVENT
END:VCALENDAR
