BEGIN:VCALENDAR
VERSION:2.0
PRODID:-//CHAMBER DASHBOARD//EVENTS CALENDAR2.0//EN
CALSCALE:GREGORIAN
BEGIN:VEVENT
DTEND:20241024T200000Z
UID:69e88a1c5608e
DTSTAMP:20260422T084308Z
CATEGORIES:Community Events
LOCATION:La Mirada High School 
DESCRIPTION:NLMUSD is hosting their annual College &amp\; Career Expoon Thursday\, October 24th\, 2024 at La Mirada High School!Open to the Public - All Ages!
URL;VALUE=URI:https://norwalkchamber.com/event/college-career-expo/
SUMMARY:College &amp\; Career Expo
DTSTART:20241024T180000Z
END:VEVENT
END:VCALENDAR
