BEGIN:VCALENDAR
VERSION:2.0
PRODID:-//CHAMBER DASHBOARD//EVENTS CALENDAR2.0//EN
CALSCALE:GREGORIAN
BEGIN:VEVENT
DTEND:20221117T130000Z
UID:69e5eb2f4e3f6
DTSTAMP:20260420T090031Z
CATEGORIES:Chamber Events
LOCATION:El Taco Locco 
DESCRIPTION:Join in with the Norwalk Chamber to build your business connections over lunch at El Taco Locco on November 17th.  Address is 12341 Imperial Hwy\, Norwalk CA.  Meet up at 12noon.  Lunch is on your own\, no cost to attend.
URL;VALUE=URI:https://norwalkchamber.com/event/creating-connections-lunch-2/
SUMMARY:Creating Connections Lunch
DTSTART:20221117T120000Z
END:VEVENT
END:VCALENDAR
