BEGIN:VCALENDAR
VERSION:2.0
PRODID:-//CHAMBER DASHBOARD//EVENTS CALENDAR2.0//EN
CALSCALE:GREGORIAN
BEGIN:VEVENT
DTEND:20240912T140000Z
UID:69e60336406e4
DTSTAMP:20260420T104302Z
CATEGORIES:Chamber Events
LOCATION:Norwalk Library 
DESCRIPTION:Join Friends of Norwalk Libraries for lunch as we explore the many online resources available with LA County Library Card!September is National Library Card Sign-Up Month!
URL;VALUE=URI:https://norwalkchamber.com/event/creating-connections-luncheon-2/
SUMMARY:Creating Connections Luncheon
DTSTART:20240912T113000Z
END:VEVENT
END:VCALENDAR
