BEGIN:VCALENDAR
VERSION:2.0
PRODID:-//CHAMBER DASHBOARD//EVENTS CALENDAR2.0//EN
CALSCALE:GREGORIAN
BEGIN:VEVENT
DTEND:20241217T140000Z
UID:69e61abcd0a50
DTSTAMP:20260420T122324Z
CATEGORIES:Chamber Events
LOCATION:Outback Restaurant 12850 Norwalk Blvd, Norwalk, CA, 90650, USA
DESCRIPTION:Join the Norwalk Chamber as we hold our "Creating Connections" Luncheon at Outback Restaurant.Come connect your business with others!(BRING A WRAPPED GIFT VALUED AT $20 MAXIMUMTO PARTICIPATE IN THE GIFT EXCHANGE GAME)
URL;VALUE=URI:https://norwalkchamber.com/event/creating-connections-luncheon-gift-exchange/
SUMMARY:&quot\;Creating Connections&quot\; Luncheon &amp\; Gift Exchange
DTSTART:20241217T120000Z
END:VEVENT
END:VCALENDAR
