BEGIN:VCALENDAR
VERSION:2.0
PRODID:-//CHAMBER DASHBOARD//EVENTS CALENDAR2.0//EN
CALSCALE:GREGORIAN
BEGIN:VEVENT
DTEND:20221104T210000Z
UID:69e5ed4977e5f
DTSTAMP:20260420T090929Z
CATEGORIES:Chamber Fundraiser
LOCATION:Diana's Restaurant 
DESCRIPTION:Norwalk Chamber Day of the Dead Bingo will be Friday\, November 4th at Diana's Restaurant located at 16330 Pioneer Blvd. in Norwalk.  Come buy your dinner and network\, then get ready to play some fun games of Bingo.  Bingo cards are $20.00 for a set of 5 and can be purchased on our web store at www.norwalkchamber.com/shop/  Dinner is from 5pm to 7pm\, then Bingo starts!
URL;VALUE=URI:https://norwalkchamber.com/event/day-of-the-dead-bingo/
SUMMARY:Day of the Dead Bingo
DTSTART:20221104T170000Z
END:VEVENT
END:VCALENDAR
