BEGIN:VCALENDAR
VERSION:2.0
PRODID:-//CHAMBER DASHBOARD//EVENTS CALENDAR2.0//EN
CALSCALE:GREGORIAN
BEGIN:VEVENT
DTEND:20241115T170000Z
UID:69e88a1bbee8b
DTSTAMP:20260422T084307Z
CATEGORIES:Community Events
LOCATION:Veterans of Foreign Wars Post 9148 
DESCRIPTION:Dream Big Project provides scholarships and more for local students through their fundraising events.  View the flyer for details on how to attend and support.
URL;VALUE=URI:https://norwalkchamber.com/event/dream-big-project-poker-fundraiser/
SUMMARY:Dream Big Project Poker Fundraiser
DTSTART:20241115T170000Z
END:VEVENT
END:VCALENDAR
