BEGIN:VCALENDAR
VERSION:2.0
PRODID:-//CHAMBER DASHBOARD//EVENTS CALENDAR2.0//EN
CALSCALE:GREGORIAN
BEGIN:VEVENT
DTEND:20241126T103000Z
UID:69e6303cf02a9
DTSTAMP:20260420T135508Z
CATEGORIES:Community Events
LOCATION:Los Nietos Park 
DESCRIPTION:Assemblywoman Blanca Pacheco\, in partnership with the Community Family Guidance Center\, invites you to a "Drive-Thru Operation Gobbler"!
URL;VALUE=URI:https://norwalkchamber.com/event/drive-thru-operation-gobbler/
SUMMARY:Drive-Thru Operation Gobbler
DTSTART:20241126T103000Z
END:VEVENT
END:VCALENDAR
