BEGIN:VCALENDAR
VERSION:2.0
PRODID:-//CHAMBER DASHBOARD//EVENTS CALENDAR2.0//EN
CALSCALE:GREGORIAN
BEGIN:VEVENT
DTEND:20240425T130000Z
UID:69e88a0286211
DTSTAMP:20260422T084242Z
CATEGORIES:Community Events
LOCATION:Cerritos College 
DESCRIPTION:El Clasificado is hosting a job fair on the Cerritos College campus on Thursday\, April 25th from 9am to 1pm.  Bring your resumes and be ready to apply for a job with employers who are ready to hire! Scan the QR code on the flyer to register for this event. Cerritos College is located at 11110 Alondra Blvd in Norwalk. 
URL;VALUE=URI:https://norwalkchamber.com/event/el-clasificado-empleoslatino-job-fair/
SUMMARY:El Clasificado empleoslatino Job Fair
DTSTART:20240425T100000Z
END:VEVENT
END:VCALENDAR
