BEGIN:VCALENDAR
VERSION:2.0
PRODID:-//CHAMBER DASHBOARD//EVENTS CALENDAR2.0//EN
CALSCALE:GREGORIAN
BEGIN:VEVENT
DTEND:20241102T190000Z
UID:69e88987cb84d
DTSTAMP:20260422T084039Z
CATEGORIES:Community Events
LOCATION:William &amp; Jane Bristol Auditorium 
DESCRIPTION:Bellflower Symphony Orchestra presents their Fall Concert. This event is free to the public.
URL;VALUE=URI:https://norwalkchamber.com/event/fall-concert-romantic-influences/
SUMMARY:Fall Concert: Romantic Influences
DTSTART:20241102T190000Z
END:VEVENT
END:VCALENDAR
