BEGIN:VCALENDAR
VERSION:2.0
PRODID:-//CHAMBER DASHBOARD//EVENTS CALENDAR2.0//EN
CALSCALE:GREGORIAN
BEGIN:VEVENT
DTEND:20240803T110000Z
UID:69ea08fb8cc48
DTSTAMP:20260423T115643Z
CATEGORIES:Community Events
LOCATION:Cerritos College 
DESCRIPTION:Cerritos College is hosting a free movie day on Saturday\, August 3rd at their Performing Arts Center. 
URL;VALUE=URI:https://norwalkchamber.com/event/free-movie-day-at-cerritos-college/
SUMMARY:Free Movie Day at Cerritos College
DTSTART:20240803T110000Z
END:VEVENT
END:VCALENDAR
