BEGIN:VCALENDAR
VERSION:2.0
PRODID:-//CHAMBER DASHBOARD//EVENTS CALENDAR2.0//EN
CALSCALE:GREGORIAN
BEGIN:VEVENT
DTEND:20250801T210000Z
UID:69e633a7eee9c
DTSTAMP:20260420T140943Z
CATEGORIES:Community Events
LOCATION:Historic Norwalk, Front St. 
DESCRIPTION:Front Street will hold three nights of food\, live entertainment\, and exhibits on every third Friday of the month\, from 5PM to 9PM.
URL;VALUE=URI:https://norwalkchamber.com/event/front-street-friday-3/
SUMMARY:FRONT STREET FRIDAY
DTSTART:20250801T170000Z
END:VEVENT
END:VCALENDAR
