BEGIN:VCALENDAR
VERSION:2.0
PRODID:-//CHAMBER DASHBOARD//EVENTS CALENDAR2.0//EN
CALSCALE:GREGORIAN
BEGIN:VEVENT
DTEND:20251003
UID:69e61fb6c8716
DTSTAMP:20260420T124438Z
CATEGORIES:Community Events
LOCATION:Coyote Hills Golf Course, Fullerton 
DESCRIPTION:Sail along to CAPC's Fall Fundraiser!
URL;VALUE=URI:https://norwalkchamber.com/event/harbor-of-hope-evening-of-empowerment/
SUMMARY:HARBOR OF HOPE Evening of Empowerment
DTSTART:20251003
END:VEVENT
END:VCALENDAR
