BEGIN:VCALENDAR
VERSION:2.0
PRODID:-//CHAMBER DASHBOARD//EVENTS CALENDAR2.0//EN
CALSCALE:GREGORIAN
BEGIN:VEVENT
DTEND:20250502T183000Z
UID:69e5ec3cd1037
DTSTAMP:20260420T090500Z
CATEGORIES:Community Events
LOCATION:Uptown Whittier Family YMCA 
DESCRIPTION:Find a Safe\, Healthy\, &amp\; Fun Summer at the YMCA!Games\, Snacks\, and MORE!
URL;VALUE=URI:https://norwalkchamber.com/event/healthy-kids-day-2/
SUMMARY:Healthy Kids Day
DTSTART:20250502T160000Z
END:VEVENT
END:VCALENDAR
