BEGIN:VCALENDAR
VERSION:2.0
PRODID:-//CHAMBER DASHBOARD//EVENTS CALENDAR2.0//EN
CALSCALE:GREGORIAN
BEGIN:VEVENT
DTEND:20260417T183000Z
UID:69e603e05d986
DTSTAMP:20260420T104552Z
CATEGORIES:Community Events
LOCATION:East Whittier Family YMCA 
DESCRIPTION:Find a Safe\, Healthy\, &amp\; Fun Summer at the YMCA!Games\, Snacks\, and MORE! 12510 Hadley St. Whittier CA.
URL;VALUE=URI:https://norwalkchamber.com/event/healthy-kids-day/
SUMMARY:Healthy Kids Day
DTSTART:20260417T160000Z
END:VEVENT
END:VCALENDAR
