BEGIN:VCALENDAR
VERSION:2.0
PRODID:-//CHAMBER DASHBOARD//EVENTS CALENDAR2.0//EN
CALSCALE:GREGORIAN
BEGIN:VEVENT
DTEND:20221220T133000Z
UID:69e5edf5d5967
DTSTAMP:20260420T091221Z
CATEGORIES:Chamber Events
LOCATION:Outback Restaurant 12850 Norwalk Blvd, Norwalk, CA, 90650, USA
DESCRIPTION:Join the Norwalk Chamber at Outback Restaurant for our Annual Creating Connections Luncheon &amp\; White Elephant Gift Exchange.  Lunch is on  your own\, bring a wrapped gift valued at $20 to participate in the gift exchange game.  12850 Norwalk Blvd\, Norwalk CA.  12:00noon until ??.
URL;VALUE=URI:https://norwalkchamber.com/event/holiday-creating-connections-luncheon-white-elephant-gift-exchange-2/
SUMMARY:Holiday Creating Connections Luncheon and  Gift Exchange Game
DTSTART:20221220T120000Z
END:VEVENT
END:VCALENDAR
