BEGIN:VCALENDAR
VERSION:2.0
PRODID:-//CHAMBER DASHBOARD//EVENTS CALENDAR2.0//EN
CALSCALE:GREGORIAN
BEGIN:VEVENT
DTEND:20231202T210000Z
UID:69e5edf635719
DTSTAMP:20260420T091222Z
CATEGORIES:Community Events
LOCATION:Norwalk City Hall - 12700 Norwalk Blvd Norwalk, CA 90650 
DESCRIPTION:We will start the Holiday Season with the Lightingof the City of Norwalk's Christmas Tree.You can also take part in games\, arts &amp\; crafts\, and photos with Santa.
URL;VALUE=URI:https://norwalkchamber.com/event/holiday-festival-and-tree-lighting-ceremony/
SUMMARY:Holiday Festival and Tree Lighting Ceremony
DTSTART:20231202T180000Z
END:VEVENT
END:VCALENDAR
