BEGIN:VCALENDAR
VERSION:2.0
PRODID:-//CHAMBER DASHBOARD//EVENTS CALENDAR2.0//EN
CALSCALE:GREGORIAN
BEGIN:VEVENT
DTEND:20241028T100000Z
UID:69e5ed81b2630
DTSTAMP:20260420T091025Z
CATEGORIES:Chamber Events
LOCATION:Jumpers Jungle 
DESCRIPTION:Celebrate with Jumper's Jungle on their 2 year anniversary over coffee and conversation.
URL;VALUE=URI:https://norwalkchamber.com/event/jumpers-jungle-2-yearanniversary-celebration/
SUMMARY:Jumpers Jungle 2 Year Anniversary Celebration
DTSTART:20241028T100000Z
END:VEVENT
END:VCALENDAR
