BEGIN:VCALENDAR
VERSION:2.0
PRODID:-//CHAMBER DASHBOARD//EVENTS CALENDAR2.0//EN
CALSCALE:GREGORIAN
BEGIN:VEVENT
DTEND:20240807T180000Z
UID:69e8a2a39ad3a
DTSTAMP:20260422T102747Z
CATEGORIES:Chamber Events
LOCATION:Norwalk City Hall 12700 Norwalk Blvd, Norwalk, CA, 90650, USA
DESCRIPTION:Norwalk Chamber and the City of Norwalk along with your host Athens Services is providing a 30 minute seminar at the Chamber Business Expo to learn about the State of California requirements and how to separate your trash.  Attendees are limited to the first 40 that sign up by emailing info@norwalkchamber.com.  Each attendee will receive free "slim jim" trash containers.  Must be a Norwalk Small Business and provide information on your business license.  Call 562-404-0909 with any questions.
URL;VALUE=URI:https://norwalkchamber.com/event/lets-talk-trash-seminar/
SUMMARY:Let&#039\;s Talk Trash Seminar
DTSTART:20240807T173000Z
END:VEVENT
END:VCALENDAR
