BEGIN:VCALENDAR
VERSION:2.0
PRODID:-//CHAMBER DASHBOARD//EVENTS CALENDAR2.0//EN
CALSCALE:GREGORIAN
BEGIN:VEVENT
DTEND:20250926T220000Z
UID:69e61dcaa86ec
DTSTAMP:20260420T123626Z
CATEGORIES:Community Events
LOCATION:Town Center Hall, Santa Fe Springs 
DESCRIPTION:Bring your Quarters &amp\; Win some Prizes!
URL;VALUE=URI:https://norwalkchamber.com/event/little-lake-educational-foundationquartermania-margarita-mixer/
SUMMARY:Little Lake Educational FoundationQuartermania &amp\; Margarita Mixer
DTSTART:20250926T163000Z
END:VEVENT
END:VCALENDAR
