BEGIN:VCALENDAR
VERSION:2.0
PRODID:-//CHAMBER DASHBOARD//EVENTS CALENDAR2.0//EN
CALSCALE:GREGORIAN
BEGIN:VEVENT
DTEND:20250504T120000Z
UID:69e5e953ee4eb
DTSTAMP:20260420T085235Z
CATEGORIES:Community Events
LOCATION:Norwalk Arts &amp; Sports Complex 13200 Clarkdale Ave., Norwalk, CA, 90650
DESCRIPTION:Soroptimist International of Norwalk/Santa Fe Springspresents the "2025 LIVE YOUR DREAM Educational Awards!"Tickets: $45.00 - Includes LunchEarly bird price until April 25thTickets $55.00 after April 26th
URL;VALUE=URI:https://norwalkchamber.com/event/live-your-dream/
SUMMARY:LIVE YOUR DREAM!
DTSTART:20250504T120000Z
END:VEVENT
END:VCALENDAR
