BEGIN:VCALENDAR
VERSION:2.0
PRODID:-//CHAMBER DASHBOARD//EVENTS CALENDAR2.0//EN
CALSCALE:GREGORIAN
BEGIN:VEVENT
DTEND:20241119T183000Z
UID:69e5ebc19d877
DTSTAMP:20260420T090257Z
CATEGORIES:Community Events
LOCATION:LuTEC High School 
DESCRIPTION:Tuesday\, November 19th is an Open House at LuTEC High school starting at 6:30pm. 
URL;VALUE=URI:https://norwalkchamber.com/event/lutec-high-school-open-house/
SUMMARY:LuTEC High School Open House
DTSTART:20241119T183000Z
END:VEVENT
END:VCALENDAR
